BEGIN:VCALENDAR
METHOD:PUBLISH
VERSION:2.0
CALSCALE:GREGORIAN
PRODID:-//NONSGML WPForms//NONSGML Sugar Calendar Feeds v3.10.0//EN
X-WR-CALNAME:18.00-20.00 uur Iftar
X-WR-CALDESC:Cygnus Gymnasium
X-WR-TIMEZONE:Europe/Amsterdam
BEGIN:VTIMEZONE
TZID:Europe/Amsterdam
BEGIN:STANDARD
TZOFFSETFROM:+0200
TZOFFSETTO:+0100
DTSTART:20251026T010000
TZNAME:CET
END:STANDARD
END:VTIMEZONE
BEGIN:VTIMEZONE
TZID:Europe/Amsterdam
BEGIN:STANDARD
TZOFFSETFROM:+0200
TZOFFSETTO:+0100
DTSTART:20251026T010000
TZNAME:CET
END:STANDARD
END:VTIMEZONE
BEGIN:VEVENT
SUMMARY:18.00-20.00 uur Iftar
DESCRIPTION:
URL;VALUE=URI:https://cygnusgymnasium.nl/events/18-00-20-00-uur-iftar/
UID:urn:uuid:67cae71f-7d5e-41ed-8735-07f0b37c1bc1
STATUS:CONFIRMED
ORGANIZER:
DTSTAMP:20260421T104322Z
DTSTART;TZID=Europe/Amsterdam:20260312T180000
DTEND;TZID=Europe/Amsterdam:20260312T200000
END:VEVENT
END:VCALENDAR