BEGIN:VCALENDAR
METHOD:PUBLISH
VERSION:2.0
CALSCALE:GREGORIAN
PRODID:-//NONSGML WPForms//NONSGML Sugar Calendar Feeds v3.10.0//EN
X-WR-CALNAME:17.00 uur MR 1
X-WR-CALDESC:Cygnus Gymnasium
X-WR-TIMEZONE:Europe/Amsterdam
BEGIN:VTIMEZONE
TZID:Europe/Amsterdam
BEGIN:DAYLIGHT
TZOFFSETFROM:+0200
TZOFFSETTO:+0200
DTSTART:20240402T050000
TZNAME:CEST
END:DAYLIGHT
END:VTIMEZONE
BEGIN:VTIMEZONE
TZID:Europe/Amsterdam
BEGIN:DAYLIGHT
TZOFFSETFROM:+0200
TZOFFSETTO:+0200
DTSTART:20240402T050000
TZNAME:CEST
END:DAYLIGHT
END:VTIMEZONE
BEGIN:VEVENT
SUMMARY:17.00 uur MR 1
DESCRIPTION:Voeg een omschrijving toe
URL;VALUE=URI:https://cygnusgymnasium.nl/events/17-00-uur-mr-1-5/
UID:urn:uuid:9e3f328c-de6b-4a7d-8774-0ce3ccc14c38
STATUS:CONFIRMED
ORGANIZER:
DTSTAMP:20260422T055753Z
DTSTART;TZID=Europe/Amsterdam:20241001T170000
DTEND;TZID=Europe/Amsterdam:20241001T200000
END:VEVENT
END:VCALENDAR