BEGIN:VCALENDAR
METHOD:PUBLISH
VERSION:2.0
CALSCALE:GREGORIAN
PRODID:-//NONSGML WPForms//NONSGML Sugar Calendar Feeds v3.10.0//EN
X-WR-CALNAME:16.00 uur Animefilmmiddag
X-WR-CALDESC:Cygnus Gymnasium
X-WR-TIMEZONE:Europe/Amsterdam
BEGIN:VTIMEZONE
TZID:Europe/Amsterdam
BEGIN:STANDARD
TZOFFSETFROM:+0200
TZOFFSETTO:+0100
DTSTART:20251026T010000
TZNAME:CET
END:STANDARD
END:VTIMEZONE
BEGIN:VTIMEZONE
TZID:Europe/Amsterdam
BEGIN:STANDARD
TZOFFSETFROM:+0200
TZOFFSETTO:+0100
DTSTART:20251026T010000
TZNAME:CET
END:STANDARD
END:VTIMEZONE
BEGIN:VEVENT
SUMMARY:16.00 uur Animefilmmiddag
DESCRIPTION:
URL;VALUE=URI:https://cygnusgymnasium.nl/events/16-00-uur-animefilmmidda
 g/
UID:urn:uuid:ecb72fca-d6cc-46f6-a1d8-881e7a911037
STATUS:CONFIRMED
ORGANIZER:
DTSTAMP:20260421T134405Z
DTSTART;TZID=Europe/Amsterdam:20260313T160000
DTEND;TZID=Europe/Amsterdam:20260313T180000
END:VEVENT
END:VCALENDAR