BEGIN:VCALENDAR
METHOD:PUBLISH
VERSION:2.0
CALSCALE:GREGORIAN
PRODID:-//NONSGML WPForms//NONSGML Sugar Calendar Feeds v3.10.0//EN
X-WR-CALNAME:15.20 uur Lj6 informatiebijeenkomst Klassieke Reizen
X-WR-CALDESC:Cygnus Gymnasium
X-WR-TIMEZONE:Europe/Amsterdam
BEGIN:VTIMEZONE
TZID:Europe/Amsterdam
BEGIN:DAYLIGHT
TZOFFSETFROM:+0100
TZOFFSETTO:+0200
DTSTART:20250330T010000
TZNAME:CEST
END:DAYLIGHT
END:VTIMEZONE
BEGIN:VTIMEZONE
TZID:Europe/Amsterdam
BEGIN:DAYLIGHT
TZOFFSETFROM:+0100
TZOFFSETTO:+0200
DTSTART:20250330T010000
TZNAME:CEST
END:DAYLIGHT
END:VTIMEZONE
BEGIN:VEVENT
SUMMARY:15.20 uur Lj6 informatiebijeenkomst Klassieke Reizen
DESCRIPTION:op de 4e etage
URL;VALUE=URI:https://cygnusgymnasium.nl/events/15-20-uur-lj6-informatie
 bijeenkomst-klassieke-reizen/
UID:urn:uuid:d3d1362c-efd9-4f68-bdcf-e145b2ecb7d6
STATUS:CONFIRMED
ORGANIZER:
DTSTAMP:20260424T102112Z
DTSTART;TZID=Europe/Amsterdam:20250909T152000
DTEND;TZID=Europe/Amsterdam:20250909T163000
END:VEVENT
END:VCALENDAR