BEGIN:VCALENDAR
METHOD:PUBLISH
VERSION:2.0
CALSCALE:GREGORIAN
PRODID:-//NONSGML WPForms//NONSGML Sugar Calendar Feeds v3.10.0//EN
X-WR-CALNAME:15.20 uur inhaalmoment toetsen
X-WR-CALDESC:Cygnus Gymnasium
X-WR-TIMEZONE:Europe/Amsterdam
BEGIN:VTIMEZONE
TZID:Europe/Amsterdam
BEGIN:DAYLIGHT
TZOFFSETFROM:+0100
TZOFFSETTO:+0200
DTSTART:20250330T010000
TZNAME:CEST
END:DAYLIGHT
END:VTIMEZONE
BEGIN:VTIMEZONE
TZID:Europe/Amsterdam
BEGIN:DAYLIGHT
TZOFFSETFROM:+0100
TZOFFSETTO:+0200
DTSTART:20250330T010000
TZNAME:CEST
END:DAYLIGHT
END:VTIMEZONE
BEGIN:VEVENT
SUMMARY:15.20 uur inhaalmoment toetsen
DESCRIPTION:Voeg een omschrijving toe
URL;VALUE=URI:https://cygnusgymnasium.nl/events/15-20-uur-inhaalmoment-t
 oetsen-64/
UID:urn:uuid:38a3b7a1-4abc-4c15-8f33-dc7fb26fa7a6
STATUS:CONFIRMED
ORGANIZER:
DTSTAMP:20260421T220808Z
DTSTART;TZID=Europe/Amsterdam:20250523T152000
DTEND;TZID=Europe/Amsterdam:20250523T170000
END:VEVENT
END:VCALENDAR