BEGIN:VCALENDAR
METHOD:PUBLISH
VERSION:2.0
CALSCALE:GREGORIAN
PRODID:-//NONSGML WPForms//NONSGML Sugar Calendar Feeds v3.10.0//EN
X-WR-CALNAME:15.20 uur inhaalmoment toetsen
X-WR-CALDESC:Cygnus Gymnasium
X-WR-TIMEZONE:Europe/Amsterdam
BEGIN:VTIMEZONE
TZID:Europe/Amsterdam
BEGIN:STANDARD
TZOFFSETFROM:+0200
TZOFFSETTO:+0100
DTSTART:20241027T010000
TZNAME:CET
END:STANDARD
END:VTIMEZONE
BEGIN:VTIMEZONE
TZID:Europe/Amsterdam
BEGIN:STANDARD
TZOFFSETFROM:+0200
TZOFFSETTO:+0100
DTSTART:20241027T010000
TZNAME:CET
END:STANDARD
END:VTIMEZONE
BEGIN:VEVENT
SUMMARY:15.20 uur inhaalmoment toetsen
DESCRIPTION:Voeg een omschrijving toe
URL;VALUE=URI:https://cygnusgymnasium.nl/events/15-20-uur-inhaalmoment-t
 oetsen-23/
UID:urn:uuid:8840f0a8-5fae-416b-85e9-24b2844b73cb
STATUS:CONFIRMED
ORGANIZER:
DTSTAMP:20260422T012101Z
DTSTART;TZID=Europe/Amsterdam:20250228T152000
DTEND;TZID=Europe/Amsterdam:20250228T170000
END:VEVENT
END:VCALENDAR