BEGIN:VCALENDAR
METHOD:PUBLISH
VERSION:2.0
CALSCALE:GREGORIAN
PRODID:-//NONSGML WPForms//NONSGML Sugar Calendar Feeds v3.10.0//EN
X-WR-CALNAME:15.20 uur inhaalmoment toetsen
X-WR-CALDESC:Cygnus Gymnasium
X-WR-TIMEZONE:Europe/Amsterdam
BEGIN:VTIMEZONE
TZID:Europe/Amsterdam
BEGIN:DAYLIGHT
TZOFFSETFROM:+0100
TZOFFSETTO:+0200
DTSTART:20260329T010000
TZNAME:CEST
END:DAYLIGHT
END:VTIMEZONE
BEGIN:VTIMEZONE
TZID:Europe/Amsterdam
BEGIN:DAYLIGHT
TZOFFSETFROM:+0100
TZOFFSETTO:+0200
DTSTART:20260329T010000
TZNAME:CEST
END:DAYLIGHT
END:VTIMEZONE
BEGIN:VEVENT
SUMMARY:15.20 uur inhaalmoment toetsen
DESCRIPTION:Voeg een omschrijving toe
URL;VALUE=URI:https://cygnusgymnasium.nl/events/15-20-uur-inhaalmoment-t
 oetsen-15/
UID:urn:uuid:b54a54dd-d23b-4f82-9f29-9fd1c9d928c0
STATUS:CONFIRMED
ORGANIZER:
DTSTAMP:20260420T214207Z
DTSTART;TZID=Europe/Amsterdam:20260602T152000
DTEND;TZID=Europe/Amsterdam:20260602T170000
END:VEVENT
END:VCALENDAR