BEGIN:VCALENDAR
METHOD:PUBLISH
VERSION:2.0
CALSCALE:GREGORIAN
PRODID:-//NONSGML WPForms//NONSGML Sugar Calendar Feeds v3.10.0//EN
X-WR-CALNAME:15.20 uur inhaalmoment toetsen
X-WR-CALDESC:Cygnus Gymnasium
X-WR-TIMEZONE:Europe/Amsterdam
BEGIN:VTIMEZONE
TZID:Europe/Amsterdam
BEGIN:DAYLIGHT
TZOFFSETFROM:+0200
TZOFFSETTO:+0200
DTSTART:20240419T032000
TZNAME:CEST
END:DAYLIGHT
END:VTIMEZONE
BEGIN:VTIMEZONE
TZID:Europe/Amsterdam
BEGIN:DAYLIGHT
TZOFFSETFROM:+0200
TZOFFSETTO:+0200
DTSTART:20240419T032000
TZNAME:CEST
END:DAYLIGHT
END:VTIMEZONE
BEGIN:VEVENT
SUMMARY:15.20 uur inhaalmoment toetsen
DESCRIPTION:Voeg een omschrijving toe
URL;VALUE=URI:https://cygnusgymnasium.nl/events/15-20-uur-inhaalmoment-t
 oetsen-149/
UID:urn:uuid:75fafb0c-8fbb-4c4f-b128-596c368dd301
STATUS:CONFIRMED
ORGANIZER:
DTSTAMP:20260419T205146Z
DTSTART;TZID=Europe/Amsterdam:20241018T152000
DTEND;TZID=Europe/Amsterdam:20241018T170000
END:VEVENT
END:VCALENDAR