BEGIN:VCALENDAR
METHOD:PUBLISH
VERSION:2.0
CALSCALE:GREGORIAN
PRODID:-//NONSGML WPForms//NONSGML Sugar Calendar Feeds v3.10.0//EN
X-WR-CALNAME:15.20 uur inhaalmoment toetsen
X-WR-CALDESC:Cygnus Gymnasium
X-WR-TIMEZONE:Europe/Amsterdam
BEGIN:VTIMEZONE
TZID:Europe/Amsterdam
BEGIN:STANDARD
TZOFFSETFROM:+0200
TZOFFSETTO:+0100
DTSTART:20251026T010000
TZNAME:CET
END:STANDARD
END:VTIMEZONE
BEGIN:VTIMEZONE
TZID:Europe/Amsterdam
BEGIN:STANDARD
TZOFFSETFROM:+0200
TZOFFSETTO:+0100
DTSTART:20251026T010000
TZNAME:CET
END:STANDARD
END:VTIMEZONE
BEGIN:VEVENT
SUMMARY:15.20 uur inhaalmoment toetsen
DESCRIPTION:Voeg een omschrijving toe
URL;VALUE=URI:https://cygnusgymnasium.nl/events/15-20-uur-inhaalmoment-t
 oetsen-12/
UID:urn:uuid:90f266cc-836c-40b5-8ea0-d3b388822e8b
STATUS:CONFIRMED
ORGANIZER:
DTSTAMP:20260420T183050Z
DTSTART;TZID=Europe/Amsterdam:20260127T152000
DTEND;TZID=Europe/Amsterdam:20260127T170000
END:VEVENT
END:VCALENDAR