BEGIN:VCALENDAR
METHOD:PUBLISH
VERSION:2.0
CALSCALE:GREGORIAN
PRODID:-//NONSGML WPForms//NONSGML Sugar Calendar Feeds v3.10.0//EN
X-WR-CALNAME:15.15 uur Voorronde Ken je Klassieken Quiz
X-WR-CALDESC:Cygnus Gymnasium
X-WR-TIMEZONE:Europe/Amsterdam
BEGIN:VTIMEZONE
TZID:Europe/Amsterdam
BEGIN:STANDARD
TZOFFSETFROM:+0200
TZOFFSETTO:+0100
DTSTART:20251026T010000
TZNAME:CET
END:STANDARD
END:VTIMEZONE
BEGIN:VTIMEZONE
TZID:Europe/Amsterdam
BEGIN:STANDARD
TZOFFSETFROM:+0200
TZOFFSETTO:+0100
DTSTART:20251026T010000
TZNAME:CET
END:STANDARD
END:VTIMEZONE
BEGIN:VEVENT
SUMMARY:15.15 uur Voorronde Ken je Klassieken Quiz
DESCRIPTION:in lokaal 107
URL;VALUE=URI:https://cygnusgymnasium.nl/events/15-15-uur-voorronde-ken-
 je-klassieken-quiz/
UID:urn:uuid:7dda3c5c-d31b-44c7-ba60-20680c450fb0
STATUS:CONFIRMED
ORGANIZER:
DTSTAMP:20260421T181155Z
DTSTART;TZID=Europe/Amsterdam:20251202T151500
DTEND;TZID=Europe/Amsterdam:20251202T160000
END:VEVENT
END:VCALENDAR