BEGIN:VCALENDAR
METHOD:PUBLISH
VERSION:2.0
CALSCALE:GREGORIAN
PRODID:-//NONSGML WPForms//NONSGML Sugar Calendar Feeds v3.10.0//EN
X-WR-CALNAME:14.30-16.30 uur Acht Plus project
X-WR-CALDESC:Cygnus Gymnasium
X-WR-TIMEZONE:Europe/Amsterdam
BEGIN:VTIMEZONE
TZID:Europe/Amsterdam
BEGIN:STANDARD
TZOFFSETFROM:+0200
TZOFFSETTO:+0100
DTSTART:20251026T010000
TZNAME:CET
END:STANDARD
END:VTIMEZONE
BEGIN:VTIMEZONE
TZID:Europe/Amsterdam
BEGIN:STANDARD
TZOFFSETFROM:+0200
TZOFFSETTO:+0100
DTSTART:20251026T010000
TZNAME:CET
END:STANDARD
END:VTIMEZONE
BEGIN:VEVENT
SUMMARY:14.30-16.30 uur Acht Plus project
DESCRIPTION:
URL;VALUE=URI:https://cygnusgymnasium.nl/events/14-30-16-30-uur-acht-plu
 s-project/
UID:urn:uuid:09c4864d-d3e9-4ce6-b6d7-5332047f66b0
STATUS:CONFIRMED
ORGANIZER:
DTSTAMP:20260420T053927Z
DTSTART;TZID=Europe/Amsterdam:20260304T143000
DTEND;TZID=Europe/Amsterdam:20260304T163000
END:VEVENT
END:VCALENDAR