BEGIN:VCALENDAR
METHOD:PUBLISH
VERSION:2.0
CALSCALE:GREGORIAN
PRODID:-//NONSGML WPForms//NONSGML Sugar Calendar Feeds v3.10.0//EN
X-WR-CALNAME:14.20 uur Lj1 afname diatoets
X-WR-CALDESC:Cygnus Gymnasium
X-WR-TIMEZONE:Europe/Amsterdam
BEGIN:VTIMEZONE
TZID:Europe/Amsterdam
BEGIN:DAYLIGHT
TZOFFSETFROM:+0200
TZOFFSETTO:+0200
DTSTART:20240411T022000
TZNAME:CEST
END:DAYLIGHT
END:VTIMEZONE
BEGIN:VTIMEZONE
TZID:Europe/Amsterdam
BEGIN:DAYLIGHT
TZOFFSETFROM:+0200
TZOFFSETTO:+0200
DTSTART:20240411T022000
TZNAME:CEST
END:DAYLIGHT
END:VTIMEZONE
BEGIN:VEVENT
SUMMARY:14.20 uur Lj1 afname diatoets
DESCRIPTION:Voeg een omschrijving toe
URL;VALUE=URI:https://cygnusgymnasium.nl/events/14-20-uur-lj1-afname-dia
 toets-3/
UID:urn:uuid:555bfbc3-f4ad-49cd-9fe9-b19dac1b41ed
STATUS:CONFIRMED
ORGANIZER:
DTSTAMP:20260420T200235Z
DTSTART;TZID=Europe/Amsterdam:20241010T142000
DTEND;TZID=Europe/Amsterdam:20241010T170000
END:VEVENT
END:VCALENDAR