BEGIN:VCALENDAR
METHOD:PUBLISH
VERSION:2.0
CALSCALE:GREGORIAN
PRODID:-//NONSGML WPForms//NONSGML Sugar Calendar Feeds v3.10.0//EN
X-WR-CALNAME:14.15 uur kerstconcert bovenbouw
X-WR-CALDESC:Cygnus Gymnasium
X-WR-TIMEZONE:Europe/Amsterdam
BEGIN:VTIMEZONE
TZID:Europe/Amsterdam
BEGIN:STANDARD
TZOFFSETFROM:+0200
TZOFFSETTO:+0100
DTSTART:20251026T010000
TZNAME:CET
END:STANDARD
END:VTIMEZONE
BEGIN:VTIMEZONE
TZID:Europe/Amsterdam
BEGIN:STANDARD
TZOFFSETFROM:+0200
TZOFFSETTO:+0100
DTSTART:20251026T010000
TZNAME:CET
END:STANDARD
END:VTIMEZONE
BEGIN:VEVENT
SUMMARY:14.15 uur kerstconcert bovenbouw
DESCRIPTION:in de aula
URL;VALUE=URI:https://cygnusgymnasium.nl/events/14-15-uur-kerstconcert-b
 ovenbouw/
UID:urn:uuid:5151fdf9-dc5d-4f50-aef3-d05050feb783
STATUS:CONFIRMED
ORGANIZER:
DTSTAMP:20260424T101735Z
DTSTART;TZID=Europe/Amsterdam:20251218T141500
DTEND;TZID=Europe/Amsterdam:20251218T151500
END:VEVENT
END:VCALENDAR