BEGIN:VCALENDAR
METHOD:PUBLISH
VERSION:2.0
CALSCALE:GREGORIAN
PRODID:-//NONSGML WPForms//NONSGML Sugar Calendar Feeds v3.10.0//EN
X-WR-CALNAME:14.00 uur Lesjesmiddag groep 8
X-WR-CALDESC:Cygnus Gymnasium
X-WR-TIMEZONE:Europe/Amsterdam
BEGIN:VTIMEZONE
TZID:Europe/Amsterdam
BEGIN:STANDARD
TZOFFSETFROM:+0200
TZOFFSETTO:+0100
DTSTART:20241027T010000
TZNAME:CET
END:STANDARD
END:VTIMEZONE
BEGIN:VTIMEZONE
TZID:Europe/Amsterdam
BEGIN:STANDARD
TZOFFSETFROM:+0200
TZOFFSETTO:+0100
DTSTART:20241027T010000
TZNAME:CET
END:STANDARD
END:VTIMEZONE
BEGIN:VEVENT
SUMMARY:14.00 uur Lesjesmiddag groep 8
DESCRIPTION:Voeg een omschrijving toe
URL;VALUE=URI:https://cygnusgymnasium.nl/events/14-00-uur-lesjesmiddag-g
 roep-8/
UID:urn:uuid:856ffb6c-2db5-4514-9be2-7ba6a2b78b99
STATUS:CONFIRMED
ORGANIZER:
DTSTAMP:20260421T102028Z
DTSTART;TZID=Europe/Amsterdam:20250115T140000
DTEND;TZID=Europe/Amsterdam:20250115T160000
END:VEVENT
END:VCALENDAR