BEGIN:VCALENDAR
METHOD:PUBLISH
VERSION:2.0
CALSCALE:GREGORIAN
PRODID:-//NONSGML WPForms//NONSGML Sugar Calendar Feeds v3.10.0//EN
X-WR-CALNAME:14.00 uur kennismaking groep 8 + fotograaf
X-WR-CALDESC:Cygnus Gymnasium
X-WR-TIMEZONE:Europe/Amsterdam
BEGIN:VTIMEZONE
TZID:Europe/Amsterdam
BEGIN:DAYLIGHT
TZOFFSETFROM:+0100
TZOFFSETTO:+0200
DTSTART:20250330T010000
TZNAME:CEST
END:DAYLIGHT
END:VTIMEZONE
BEGIN:VTIMEZONE
TZID:Europe/Amsterdam
BEGIN:DAYLIGHT
TZOFFSETFROM:+0100
TZOFFSETTO:+0200
DTSTART:20250330T010000
TZNAME:CEST
END:DAYLIGHT
END:VTIMEZONE
BEGIN:VEVENT
SUMMARY:14.00 uur kennismaking groep 8 + fotograaf
DESCRIPTION:Voeg een omschrijving toe
URL;VALUE=URI:https://cygnusgymnasium.nl/events/14-00-uur-kennismaking-g
 roep-8-fotograaf/
UID:urn:uuid:6f79e1db-8e4d-4f97-8957-e3222a6e3787
STATUS:CONFIRMED
ORGANIZER:
DTSTAMP:20260421T181358Z
DTSTART;TZID=Europe/Amsterdam:20250618T140000
DTEND;TZID=Europe/Amsterdam:20250618T160000
END:VEVENT
END:VCALENDAR