BEGIN:VCALENDAR
METHOD:PUBLISH
VERSION:2.0
CALSCALE:GREGORIAN
PRODID:-//NONSGML WPForms//NONSGML Sugar Calendar Feeds v3.10.0//EN
X-WR-CALNAME:14.00 uur informatiemiddag groep 7
X-WR-CALDESC:Cygnus Gymnasium
X-WR-TIMEZONE:Europe/Amsterdam
BEGIN:VTIMEZONE
TZID:Europe/Amsterdam
BEGIN:DAYLIGHT
TZOFFSETFROM:+0100
TZOFFSETTO:+0200
DTSTART:20250330T010000
TZNAME:CEST
END:DAYLIGHT
END:VTIMEZONE
BEGIN:VTIMEZONE
TZID:Europe/Amsterdam
BEGIN:DAYLIGHT
TZOFFSETFROM:+0100
TZOFFSETTO:+0200
DTSTART:20250330T010000
TZNAME:CEST
END:DAYLIGHT
END:VTIMEZONE
BEGIN:VEVENT
SUMMARY:14.00 uur informatiemiddag groep 7
DESCRIPTION:Voeg een omschrijving toe
URL;VALUE=URI:https://cygnusgymnasium.nl/events/14-00-uur-informatiemidd
 ag-groep-7/
UID:urn:uuid:ab948ad4-cd63-4dab-bf74-05ead471e190
STATUS:CONFIRMED
ORGANIZER:
DTSTAMP:20260421T183650Z
DTSTART;TZID=Europe/Amsterdam:20250611T140000
DTEND;TZID=Europe/Amsterdam:20250611T160000
END:VEVENT
END:VCALENDAR