BEGIN:VCALENDAR
METHOD:PUBLISH
VERSION:2.0
CALSCALE:GREGORIAN
PRODID:-//NONSGML WPForms//NONSGML Sugar Calendar Feeds v3.10.0//EN
X-WR-CALNAME:13.30 uur Lj4 BIO naar Artis
X-WR-CALDESC:Cygnus Gymnasium
X-WR-TIMEZONE:Europe/Amsterdam
BEGIN:VTIMEZONE
TZID:Europe/Amsterdam
BEGIN:STANDARD
TZOFFSETFROM:+0200
TZOFFSETTO:+0100
DTSTART:20251026T010000
TZNAME:CET
END:STANDARD
END:VTIMEZONE
BEGIN:VTIMEZONE
TZID:Europe/Amsterdam
BEGIN:STANDARD
TZOFFSETFROM:+0200
TZOFFSETTO:+0100
DTSTART:20251026T010000
TZNAME:CET
END:STANDARD
END:VTIMEZONE
BEGIN:VEVENT
SUMMARY:13.30 uur Lj4 BIO naar Artis
DESCRIPTION:
URL;VALUE=URI:https://cygnusgymnasium.nl/events/13-30-uur-lj4-bio-naar-a
 rtis/
UID:urn:uuid:7f5ffeba-0d02-4e5c-9772-56fee6bdf166
STATUS:CONFIRMED
ORGANIZER:
DTSTAMP:20260420T071215Z
DTSTART;TZID=Europe/Amsterdam:20251028T133000
DTEND;TZID=Europe/Amsterdam:20251028T170000
END:VEVENT
END:VCALENDAR