BEGIN:VCALENDAR
METHOD:PUBLISH
VERSION:2.0
CALSCALE:GREGORIAN
PRODID:-//NONSGML WPForms//NONSGML Sugar Calendar Feeds v3.10.0//EN
X-WR-CALNAME:13.30 uur Kerstviering
X-WR-CALDESC:Cygnus Gymnasium
X-WR-TIMEZONE:Europe/Amsterdam
BEGIN:VTIMEZONE
TZID:Europe/Amsterdam
BEGIN:STANDARD
TZOFFSETFROM:+0200
TZOFFSETTO:+0100
DTSTART:20241027T010000
TZNAME:CET
END:STANDARD
END:VTIMEZONE
BEGIN:VTIMEZONE
TZID:Europe/Amsterdam
BEGIN:STANDARD
TZOFFSETFROM:+0200
TZOFFSETTO:+0100
DTSTART:20241027T010000
TZNAME:CET
END:STANDARD
END:VTIMEZONE
BEGIN:VEVENT
SUMMARY:13.30 uur Kerstviering
DESCRIPTION:Voeg een omschrijving toe
URL;VALUE=URI:https://cygnusgymnasium.nl/events/13-30-uur-kerstviering-3
 /
UID:urn:uuid:e29b12be-91ad-4ce9-8257-f1ad4ded65c0
STATUS:CONFIRMED
ORGANIZER:
DTSTAMP:20260420T234305Z
DTSTART;TZID=Europe/Amsterdam:20241219T133000
DTEND;TZID=Europe/Amsterdam:20241219T170000
END:VEVENT
END:VCALENDAR