BEGIN:VCALENDAR
METHOD:PUBLISH
VERSION:2.0
CALSCALE:GREGORIAN
PRODID:-//NONSGML WPForms//NONSGML Sugar Calendar Feeds v3.10.0//EN
X-WR-CALNAME:13.00 uur vertaalwedstrijd La/Gr UvA
X-WR-CALDESC:Cygnus Gymnasium
X-WR-TIMEZONE:Europe/Amsterdam
BEGIN:VTIMEZONE
TZID:Europe/Amsterdam
BEGIN:STANDARD
TZOFFSETFROM:+0200
TZOFFSETTO:+0100
DTSTART:20251026T010000
TZNAME:CET
END:STANDARD
END:VTIMEZONE
BEGIN:VTIMEZONE
TZID:Europe/Amsterdam
BEGIN:STANDARD
TZOFFSETFROM:+0200
TZOFFSETTO:+0100
DTSTART:20251026T010000
TZNAME:CET
END:STANDARD
END:VTIMEZONE
BEGIN:VEVENT
SUMMARY:13.00 uur vertaalwedstrijd La/Gr UvA
DESCRIPTION:
URL;VALUE=URI:https://cygnusgymnasium.nl/events/13-00-uur-vertaalwedstri
 jd-la-gr-uva/
UID:urn:uuid:e2cfd907-7d09-4c40-968f-1b6ad7f6938b
STATUS:CONFIRMED
ORGANIZER:
DTSTAMP:20260420T093935Z
DTSTART;TZID=Europe/Amsterdam:20260128T130000
DTEND;TZID=Europe/Amsterdam:20260128T160000
END:VEVENT
END:VCALENDAR