BEGIN:VCALENDAR
METHOD:PUBLISH
VERSION:2.0
CALSCALE:GREGORIAN
PRODID:-//NONSGML WPForms//NONSGML Sugar Calendar Feeds v3.10.0//EN
X-WR-CALNAME:13.00 uur uitleg debatclub
X-WR-CALDESC:Cygnus Gymnasium
X-WR-TIMEZONE:Europe/Amsterdam
BEGIN:VTIMEZONE
TZID:Europe/Amsterdam
BEGIN:DAYLIGHT
TZOFFSETFROM:+0200
TZOFFSETTO:+0200
DTSTART:20240426T010000
TZNAME:CEST
END:DAYLIGHT
END:VTIMEZONE
BEGIN:VTIMEZONE
TZID:Europe/Amsterdam
BEGIN:DAYLIGHT
TZOFFSETFROM:+0200
TZOFFSETTO:+0200
DTSTART:20240426T010000
TZNAME:CEST
END:DAYLIGHT
END:VTIMEZONE
BEGIN:VEVENT
SUMMARY:13.00 uur uitleg debatclub
DESCRIPTION:in de vergaderzaal op de 1e etage
URL;VALUE=URI:https://cygnusgymnasium.nl/events/13-00-uur-uitleg-debatcl
 ub-3/
UID:urn:uuid:f18317ec-0964-4d30-ba79-b2d49d0bfb55
STATUS:CONFIRMED
ORGANIZER:
DTSTAMP:20260420T140059Z
DTSTART;TZID=Europe/Amsterdam:20241025T130000
DTEND;TZID=Europe/Amsterdam:20241025T170000
END:VEVENT
END:VCALENDAR