BEGIN:VCALENDAR
METHOD:PUBLISH
VERSION:2.0
CALSCALE:GREGORIAN
PRODID:-//NONSGML WPForms//NONSGML Sugar Calendar Feeds v3.10.0//EN
X-WR-CALNAME:13.00 uur kerstconcert onderbouw
X-WR-CALDESC:Cygnus Gymnasium
X-WR-TIMEZONE:Europe/Amsterdam
BEGIN:VTIMEZONE
TZID:Europe/Amsterdam
BEGIN:STANDARD
TZOFFSETFROM:+0200
TZOFFSETTO:+0100
DTSTART:20251026T010000
TZNAME:CET
END:STANDARD
END:VTIMEZONE
BEGIN:VTIMEZONE
TZID:Europe/Amsterdam
BEGIN:STANDARD
TZOFFSETFROM:+0200
TZOFFSETTO:+0100
DTSTART:20251026T010000
TZNAME:CET
END:STANDARD
END:VTIMEZONE
BEGIN:VEVENT
SUMMARY:13.00 uur kerstconcert onderbouw
DESCRIPTION:in de aula
URL;VALUE=URI:https://cygnusgymnasium.nl/events/13-00-uur-kerstconcert-o
 nderbouw/
UID:urn:uuid:35e4fc35-b547-488f-b01f-7eaff1f9915f
STATUS:CONFIRMED
ORGANIZER:
DTSTAMP:20260421T200129Z
DTSTART;TZID=Europe/Amsterdam:20251218T130000
DTEND;TZID=Europe/Amsterdam:20251218T140000
END:VEVENT
END:VCALENDAR