BEGIN:VCALENDAR
METHOD:PUBLISH
VERSION:2.0
CALSCALE:GREGORIAN
PRODID:-//NONSGML WPForms//NONSGML Sugar Calendar Feeds v3.10.0//EN
X-WR-CALNAME:13.00-16.30 uur voorstelling Aluin voor Lj 4\,5 en 6 Grieks
X-WR-CALDESC:Cygnus Gymnasium
X-WR-TIMEZONE:Europe/Amsterdam
BEGIN:VTIMEZONE
TZID:Europe/Amsterdam
BEGIN:STANDARD
TZOFFSETFROM:+0200
TZOFFSETTO:+0100
DTSTART:20251026T010000
TZNAME:CET
END:STANDARD
BEGIN:DAYLIGHT
TZOFFSETFROM:+0100
TZOFFSETTO:+0200
DTSTART:20260329T010000
TZNAME:CEST
END:DAYLIGHT
END:VTIMEZONE
BEGIN:VTIMEZONE
TZID:Europe/Amsterdam
BEGIN:STANDARD
TZOFFSETFROM:+0200
TZOFFSETTO:+0100
DTSTART:20251026T010000
TZNAME:CET
END:STANDARD
BEGIN:DAYLIGHT
TZOFFSETFROM:+0100
TZOFFSETTO:+0200
DTSTART:20260329T010000
TZNAME:CEST
END:DAYLIGHT
END:VTIMEZONE
BEGIN:VEVENT
SUMMARY:13.00-16.30 uur voorstelling Aluin voor Lj 4\,5 en 6 Grieks
DESCRIPTION:13:00-14:20 (start ca. 13:10): klas 4GR (51 ll) en 6GR (37 l
 l)\n\n15:00-16:20 (start ca. 15:10): Klas 5GR (62 ll)
URL;VALUE=URI:https://cygnusgymnasium.nl/events/13-00-16-30-uur-voorstel
 ling-aluin-voor-lj-45-en-6-grieks/
UID:urn:uuid:e90872ab-dc25-4682-8709-39ec6f0ea9bd
STATUS:CONFIRMED
ORGANIZER:
DTSTAMP:20260421T185441Z
DTSTART;TZID=Europe/Amsterdam:20260403T130000
DTEND;TZID=Europe/Amsterdam:20260403T163000
END:VEVENT
END:VCALENDAR