BEGIN:VCALENDAR
METHOD:PUBLISH
VERSION:2.0
CALSCALE:GREGORIAN
PRODID:-//NONSGML WPForms//NONSGML Sugar Calendar Feeds v3.10.0//EN
X-WR-CALNAME:12.50 uur Lesvrij i.v.m. studiemiddag personeel
X-WR-CALDESC:Cygnus Gymnasium
X-WR-TIMEZONE:Europe/Amsterdam
BEGIN:VTIMEZONE
TZID:Europe/Amsterdam
BEGIN:DAYLIGHT
TZOFFSETFROM:+0200
TZOFFSETTO:+0200
DTSTART:20240425T005000
TZNAME:CEST
END:DAYLIGHT
END:VTIMEZONE
BEGIN:VTIMEZONE
TZID:Europe/Amsterdam
BEGIN:DAYLIGHT
TZOFFSETFROM:+0200
TZOFFSETTO:+0200
DTSTART:20240425T005000
TZNAME:CEST
END:DAYLIGHT
END:VTIMEZONE
BEGIN:VEVENT
SUMMARY:12.50 uur Lesvrij i.v.m. studiemiddag personeel
DESCRIPTION:Voeg een omschrijving toe
URL;VALUE=URI:https://cygnusgymnasium.nl/events/12-50-uur-lesvrij-i-v-m-
 studiemiddag-personeel-3/
UID:urn:uuid:a75b2618-4fe3-482c-ae7f-9893fcbdb8d4
STATUS:CONFIRMED
ORGANIZER:
DTSTAMP:20260420T093336Z
DTSTART;TZID=Europe/Amsterdam:20241024T125000
DTEND;TZID=Europe/Amsterdam:20241024T170000
END:VEVENT
END:VCALENDAR