BEGIN:VCALENDAR
METHOD:PUBLISH
VERSION:2.0
CALSCALE:GREGORIAN
PRODID:-//NONSGML WPForms//NONSGML Sugar Calendar Feeds v3.10.0//EN
X-WR-CALNAME:09.00 uur Lj5 BIO naar AMC voor lezing
X-WR-CALDESC:Cygnus Gymnasium
X-WR-TIMEZONE:Europe/Amsterdam
BEGIN:VTIMEZONE
TZID:Europe/Amsterdam
BEGIN:STANDARD
TZOFFSETFROM:+0200
TZOFFSETTO:+0100
DTSTART:20251026T010000
TZNAME:CET
END:STANDARD
END:VTIMEZONE
BEGIN:VTIMEZONE
TZID:Europe/Amsterdam
BEGIN:STANDARD
TZOFFSETFROM:+0200
TZOFFSETTO:+0100
DTSTART:20251026T010000
TZNAME:CET
END:STANDARD
END:VTIMEZONE
BEGIN:VEVENT
SUMMARY:09.00 uur Lj5 BIO naar AMC voor lezing
DESCRIPTION:
URL;VALUE=URI:https://cygnusgymnasium.nl/events/09-00-uur-lj5-bio-naar-a
 mc-voor-lezing/
UID:urn:uuid:5ba16ef0-048f-4659-a4b9-d262243d7c87
STATUS:CONFIRMED
ORGANIZER:
DTSTAMP:20260420T102539Z
DTSTART;TZID=Europe/Amsterdam:20251113T090000
DTEND;TZID=Europe/Amsterdam:20251113T130000
END:VEVENT
END:VCALENDAR