BEGIN:VCALENDAR
METHOD:PUBLISH
VERSION:2.0
CALSCALE:GREGORIAN
PRODID:-//NONSGML WPForms//NONSGML Sugar Calendar Feeds v3.10.0//EN
X-WR-CALNAME:08.30-16.00 uur Lj6 PO scheikunde
X-WR-CALDESC:Cygnus Gymnasium
X-WR-TIMEZONE:Europe/Amsterdam
BEGIN:VTIMEZONE
TZID:Europe/Amsterdam
BEGIN:STANDARD
TZOFFSETFROM:+0200
TZOFFSETTO:+0100
DTSTART:20251026T010000
TZNAME:CET
END:STANDARD
END:VTIMEZONE
BEGIN:VTIMEZONE
TZID:Europe/Amsterdam
BEGIN:STANDARD
TZOFFSETFROM:+0200
TZOFFSETTO:+0100
DTSTART:20251026T010000
TZNAME:CET
END:STANDARD
END:VTIMEZONE
BEGIN:VEVENT
SUMMARY:08.30-16.00 uur Lj6 PO scheikunde
DESCRIPTION:
URL;VALUE=URI:https://cygnusgymnasium.nl/events/08-30-16-00-uur-lj6-po-s
 cheikunde/
UID:urn:uuid:70d4d49a-c364-4e22-adef-1fab83c3bfe3
STATUS:CONFIRMED
ORGANIZER:
DTSTAMP:20260421T054648Z
DTSTART;TZID=Europe/Amsterdam:20260121T083000
DTEND;TZID=Europe/Amsterdam:20260121T160000
END:VEVENT
END:VCALENDAR