BEGIN:VCALENDAR
METHOD:PUBLISH
VERSION:2.0
CALSCALE:GREGORIAN
PRODID:-//NONSGML WPForms//NONSGML Sugar Calendar Feeds v3.10.0//EN
X-WR-CALNAME:08.30-11.00 uur Lj5 PO scheikunde
X-WR-CALDESC:Cygnus Gymnasium
X-WR-TIMEZONE:Europe/Amsterdam
BEGIN:VTIMEZONE
TZID:Europe/Amsterdam
BEGIN:STANDARD
TZOFFSETFROM:+0200
TZOFFSETTO:+0100
DTSTART:20251026T010000
TZNAME:CET
END:STANDARD
END:VTIMEZONE
BEGIN:VTIMEZONE
TZID:Europe/Amsterdam
BEGIN:STANDARD
TZOFFSETFROM:+0200
TZOFFSETTO:+0100
DTSTART:20251026T010000
TZNAME:CET
END:STANDARD
END:VTIMEZONE
BEGIN:VEVENT
SUMMARY:08.30-11.00 uur Lj5 PO scheikunde
DESCRIPTION:
URL;VALUE=URI:https://cygnusgymnasium.nl/events/08-30-11-00-uur-lj5-po-s
 cheikunde/
UID:urn:uuid:47018f61-7b54-4145-99c7-4afb0aeeb86d
STATUS:CONFIRMED
ORGANIZER:
DTSTAMP:20260421T090852Z
DTSTART;TZID=Europe/Amsterdam:20260128T083000
DTEND;TZID=Europe/Amsterdam:20260128T110000
END:VEVENT
END:VCALENDAR