BEGIN:VCALENDAR
METHOD:PUBLISH
VERSION:2.0
CALSCALE:GREGORIAN
PRODID:-//NONSGML WPForms//NONSGML Sugar Calendar Feeds v3.10.0//EN
X-WR-CALNAME:08.30-11.00 uur DELF examen deel 1 Lj3 t/m 5
X-WR-CALDESC:Cygnus Gymnasium
X-WR-TIMEZONE:Europe/Amsterdam
BEGIN:VTIMEZONE
TZID:Europe/Amsterdam
BEGIN:DAYLIGHT
TZOFFSETFROM:+0100
TZOFFSETTO:+0200
DTSTART:20250330T010000
TZNAME:CEST
END:DAYLIGHT
END:VTIMEZONE
BEGIN:VTIMEZONE
TZID:Europe/Amsterdam
BEGIN:DAYLIGHT
TZOFFSETFROM:+0100
TZOFFSETTO:+0200
DTSTART:20250330T010000
TZNAME:CEST
END:DAYLIGHT
END:VTIMEZONE
BEGIN:VEVENT
SUMMARY:08.30-11.00 uur DELF examen deel 1 Lj3 t/m 5
DESCRIPTION:Voor die leerlingen die zich hiervoor op hebben gegeven
URL;VALUE=URI:https://cygnusgymnasium.nl/events/08-30-11-00-uur-delf-exa
 men-deel-1-lj3-t-m-5/
UID:urn:uuid:e76f6239-0d5b-4bdd-9f6f-f780b08e72b7
STATUS:CONFIRMED
ORGANIZER:
DTSTAMP:20260421T153420Z
DTSTART;TZID=Europe/Amsterdam:20250611T083000
DTEND;TZID=Europe/Amsterdam:20250611T110000
END:VEVENT
END:VCALENDAR